BEGIN:VCALENDAR
VERSION:2.0
PRODID:-//1250baierbrunn.de - ECPv6.15.17//NONSGML v1.0//EN
CALSCALE:GREGORIAN
METHOD:PUBLISH
X-WR-CALNAME:1250baierbrunn.de
X-ORIGINAL-URL:https://1250baierbrunn.de
X-WR-CALDESC:Veranstaltungen für 1250baierbrunn.de
REFRESH-INTERVAL;VALUE=DURATION:PT1H
X-Robots-Tag:noindex
X-PUBLISHED-TTL:PT1H
BEGIN:VTIMEZONE
TZID:Europe/Berlin
BEGIN:DAYLIGHT
TZOFFSETFROM:+0100
TZOFFSETTO:+0200
TZNAME:CEST
DTSTART:20250330T010000
END:DAYLIGHT
BEGIN:STANDARD
TZOFFSETFROM:+0200
TZOFFSETTO:+0100
TZNAME:CET
DTSTART:20251026T010000
END:STANDARD
BEGIN:DAYLIGHT
TZOFFSETFROM:+0100
TZOFFSETTO:+0200
TZNAME:CEST
DTSTART:20260329T010000
END:DAYLIGHT
BEGIN:STANDARD
TZOFFSETFROM:+0200
TZOFFSETTO:+0100
TZNAME:CET
DTSTART:20261025T010000
END:STANDARD
BEGIN:DAYLIGHT
TZOFFSETFROM:+0100
TZOFFSETTO:+0200
TZNAME:CEST
DTSTART:20270328T010000
END:DAYLIGHT
BEGIN:STANDARD
TZOFFSETFROM:+0200
TZOFFSETTO:+0100
TZNAME:CET
DTSTART:20271031T010000
END:STANDARD
END:VTIMEZONE
BEGIN:VEVENT
DTSTART;TZID=Europe/Berlin:20260101T170000
DTEND;TZID=Europe/Berlin:20260101T190000
DTSTAMP:20260420T131036
CREATED:20251218T220418Z
LAST-MODIFIED:20251230T155909Z
UID:221-1767286800-1767294000@1250baierbrunn.de
SUMMARY:Ökumenischer Neujahrsgottesdienst mit Neujahrsempfang des Pfarrgemeinderates
DESCRIPTION:
URL:https://1250baierbrunn.de/event/oekumenischer-neujahrsgottesdienst-mit-neujahrsempfang-des-pfarrgemeinderates/
LOCATION:Pfarrkirche\, Forstenrieder Weg 13\, Baierbrunn\, 82065\, Germany
CATEGORIES:Kirche
END:VEVENT
BEGIN:VEVENT
DTSTART;TZID=Europe/Berlin:20260111T150000
DTEND;TZID=Europe/Berlin:20260111T160000
DTSTAMP:20260420T131036
CREATED:20251218T220521Z
LAST-MODIFIED:20251230T144420Z
UID:224-1768143600-1768147200@1250baierbrunn.de
SUMMARY:Neujahrskonzert der Gemeinde (A. Stahuber)
DESCRIPTION:
URL:https://1250baierbrunn.de/event/neujahrskonzert-der-gemeinde-a-stahuber/
LOCATION:Pfarrkirche\, Forstenrieder Weg 13\, Baierbrunn\, 82065\, Germany
CATEGORIES:Gemeinde
END:VEVENT
BEGIN:VEVENT
DTSTART;TZID=Europe/Berlin:20260115T190000
DTEND;TZID=Europe/Berlin:20260115T210000
DTSTAMP:20260420T131036
CREATED:20251218T220606Z
LAST-MODIFIED:20251230T144432Z
UID:227-1768503600-1768510800@1250baierbrunn.de
SUMMARY:Eröffnungsveranstaltung des Festjahres (Geschlossene Veranstaltung)
DESCRIPTION:
URL:https://1250baierbrunn.de/event/eroeffnungsveranstaltung-des-festjahres-geschlossene-veranstaltung/
LOCATION:Verlag W&B Irenensaal
CATEGORIES:Gemeinde
END:VEVENT
BEGIN:VEVENT
DTSTART;TZID=Europe/Berlin:20260124T150000
DTEND;TZID=Europe/Berlin:20260124T180000
DTSTAMP:20260420T131036
CREATED:20251218T220634Z
LAST-MODIFIED:20251230T144444Z
UID:230-1769266800-1769277600@1250baierbrunn.de
SUMMARY:Neujahrsempfang der Gemeinde
DESCRIPTION:
URL:https://1250baierbrunn.de/event/neujahrsempfang-der-gemeinde/
LOCATION:Rathaus
CATEGORIES:Gemeinde
END:VEVENT
BEGIN:VEVENT
DTSTART;TZID=Europe/Berlin:20260130T190000
DTEND;TZID=Europe/Berlin:20260130T220000
DTSTAMP:20260420T131036
CREATED:20251218T220703Z
LAST-MODIFIED:20251230T144524Z
UID:233-1769799600-1769810400@1250baierbrunn.de
SUMMARY:Jugendtreff. Radl-Kino - TERMIN GEÄNDERT!
DESCRIPTION:TERMIN GEÄNDERT!
URL:https://1250baierbrunn.de/event/jugendtreff-radl-kino/
LOCATION:Pfarrsaal\, Forstenrieder Weg 13\, Baierbrunn\, 82065\, Germany
CATEGORIES:Gemeinde,Gemeinde Jugend
END:VEVENT
END:VCALENDAR