BEGIN:VCALENDAR
VERSION:2.0
PRODID:-//1250baierbrunn.de - ECPv6.15.17//NONSGML v1.0//EN
CALSCALE:GREGORIAN
METHOD:PUBLISH
X-WR-CALNAME:1250baierbrunn.de
X-ORIGINAL-URL:https://1250baierbrunn.de
X-WR-CALDESC:Veranstaltungen für 1250baierbrunn.de
REFRESH-INTERVAL;VALUE=DURATION:PT1H
X-Robots-Tag:noindex
X-PUBLISHED-TTL:PT1H
BEGIN:VTIMEZONE
TZID:Europe/Berlin
BEGIN:DAYLIGHT
TZOFFSETFROM:+0100
TZOFFSETTO:+0200
TZNAME:CEST
DTSTART:20250330T010000
END:DAYLIGHT
BEGIN:STANDARD
TZOFFSETFROM:+0200
TZOFFSETTO:+0100
TZNAME:CET
DTSTART:20251026T010000
END:STANDARD
BEGIN:DAYLIGHT
TZOFFSETFROM:+0100
TZOFFSETTO:+0200
TZNAME:CEST
DTSTART:20260329T010000
END:DAYLIGHT
BEGIN:STANDARD
TZOFFSETFROM:+0200
TZOFFSETTO:+0100
TZNAME:CET
DTSTART:20261025T010000
END:STANDARD
BEGIN:DAYLIGHT
TZOFFSETFROM:+0100
TZOFFSETTO:+0200
TZNAME:CEST
DTSTART:20270328T010000
END:DAYLIGHT
BEGIN:STANDARD
TZOFFSETFROM:+0200
TZOFFSETTO:+0100
TZNAME:CET
DTSTART:20271031T010000
END:STANDARD
END:VTIMEZONE
BEGIN:VEVENT
DTSTART;TZID=Europe/Berlin:20260604T090000
DTEND;TZID=Europe/Berlin:20260604T110000
DTSTAMP:20260420T131036
CREATED:20251218T222125Z
LAST-MODIFIED:20251230T160107Z
UID:294-1780563600-1780570800@1250baierbrunn.de
SUMMARY:Fronleichnamsprozession
DESCRIPTION:
URL:https://1250baierbrunn.de/event/fronleichnamsprozession/
LOCATION:Pfarrkirche\, Forstenrieder Weg 13\, Baierbrunn\, 82065\, Germany
CATEGORIES:Kirche
END:VEVENT
BEGIN:VEVENT
DTSTART;VALUE=DATE:20260608
DTEND;VALUE=DATE:20260629
DTSTAMP:20260420T131036
CREATED:20251218T222154Z
LAST-MODIFIED:20251230T144341Z
UID:297-1780876800-1782691199@1250baierbrunn.de
SUMMARY:Ausstellung: Baierbrunner Künstler\, Lesungen\, Film über den Ort
DESCRIPTION:
URL:https://1250baierbrunn.de/event/ausstellung-baierbrunner-kuenstler-lesungen-film-ueber-den-ort/
LOCATION:Rathaus
CATEGORIES:Ausstellungen
END:VEVENT
BEGIN:VEVENT
DTSTART;TZID=Europe/Berlin:20260620T100000
DTEND;TZID=Europe/Berlin:20260620T170000
DTSTAMP:20260420T131036
CREATED:20251218T222214Z
LAST-MODIFIED:20251230T145306Z
UID:299-1781949600-1781974800@1250baierbrunn.de
SUMMARY:Jugend Fußballturnier
DESCRIPTION:
URL:https://1250baierbrunn.de/event/jugend-fussballturnier/
LOCATION:Sport- & Bürgezentrum\, Wirthsfeld 7\, Baierbrunn\, 82065\, Germany
CATEGORIES:Sportverein SCB
END:VEVENT
BEGIN:VEVENT
DTSTART;TZID=Europe/Berlin:20260621T100000
DTEND;TZID=Europe/Berlin:20260621T150000
DTSTAMP:20260420T131036
CREATED:20251218T222238Z
LAST-MODIFIED:20251230T145315Z
UID:301-1782036000-1782054000@1250baierbrunn.de
SUMMARY:Sommerlauf & Sommerfest
DESCRIPTION:
URL:https://1250baierbrunn.de/event/sommerlauf-sommerfest/
LOCATION:Sport- & Bürgezentrum\, Wirthsfeld 7\, Baierbrunn\, 82065\, Germany
CATEGORIES:Sportverein SCB
END:VEVENT
BEGIN:VEVENT
DTSTART;TZID=Europe/Berlin:20260626T190000
DTEND;TZID=Europe/Berlin:20260626T230000
DTSTAMP:20260420T131036
CREATED:20251218T222309Z
LAST-MODIFIED:20251230T145506Z
UID:303-1782500400-1782514800@1250baierbrunn.de
SUMMARY:Johanni-Feuer
DESCRIPTION:
URL:https://1250baierbrunn.de/event/johanni-feuer/
LOCATION:Kirchberg
CATEGORIES:Trachtenverein GTV
END:VEVENT
BEGIN:VEVENT
DTSTART;TZID=Europe/Berlin:20260627T190000
DTEND;TZID=Europe/Berlin:20260627T230000
DTSTAMP:20260420T131036
CREATED:20251218T222334Z
LAST-MODIFIED:20251230T145510Z
UID:306-1782586800-1782601200@1250baierbrunn.de
SUMMARY:Ersatztermin: Johanni-Feuer
DESCRIPTION:
URL:https://1250baierbrunn.de/event/ersatztermin-johanni-feuer/
LOCATION:Kirchberg
CATEGORIES:Trachtenverein GTV
END:VEVENT
END:VCALENDAR