BEGIN:VCALENDAR
VERSION:2.0
PRODID:-//1250baierbrunn.de - ECPv6.15.17//NONSGML v1.0//EN
CALSCALE:GREGORIAN
METHOD:PUBLISH
X-WR-CALNAME:1250baierbrunn.de
X-ORIGINAL-URL:https://1250baierbrunn.de
X-WR-CALDESC:Veranstaltungen für 1250baierbrunn.de
REFRESH-INTERVAL;VALUE=DURATION:PT1H
X-Robots-Tag:noindex
X-PUBLISHED-TTL:PT1H
BEGIN:VTIMEZONE
TZID:Europe/Berlin
BEGIN:DAYLIGHT
TZOFFSETFROM:+0100
TZOFFSETTO:+0200
TZNAME:CEST
DTSTART:20250330T010000
END:DAYLIGHT
BEGIN:STANDARD
TZOFFSETFROM:+0200
TZOFFSETTO:+0100
TZNAME:CET
DTSTART:20251026T010000
END:STANDARD
BEGIN:DAYLIGHT
TZOFFSETFROM:+0100
TZOFFSETTO:+0200
TZNAME:CEST
DTSTART:20260329T010000
END:DAYLIGHT
BEGIN:STANDARD
TZOFFSETFROM:+0200
TZOFFSETTO:+0100
TZNAME:CET
DTSTART:20261025T010000
END:STANDARD
BEGIN:DAYLIGHT
TZOFFSETFROM:+0100
TZOFFSETTO:+0200
TZNAME:CEST
DTSTART:20270328T010000
END:DAYLIGHT
BEGIN:STANDARD
TZOFFSETFROM:+0200
TZOFFSETTO:+0100
TZNAME:CET
DTSTART:20271031T010000
END:STANDARD
END:VTIMEZONE
BEGIN:VEVENT
DTSTART;TZID=Europe/Berlin:20260705T103000
DTEND;TZID=Europe/Berlin:20260705T120000
DTSTAMP:20260420T144729
CREATED:20251218T222427Z
LAST-MODIFIED:20251230T144930Z
UID:311-1783247400-1783252800@1250baierbrunn.de
SUMMARY:Patrozinium (Festgottesdienst)
DESCRIPTION:
URL:https://1250baierbrunn.de/event/patrozinium-festgottesdienst/
LOCATION:Pfarrkirche\, Forstenrieder Weg 13\, Baierbrunn\, 82065\, Germany
CATEGORIES:Kirche
END:VEVENT
BEGIN:VEVENT
DTSTART;TZID=Europe/Berlin:20260709T180000
DTEND;TZID=Europe/Berlin:20260709T200000
DTSTAMP:20260420T144729
CREATED:20251218T222452Z
LAST-MODIFIED:20251230T144753Z
UID:313-1783620000-1783627200@1250baierbrunn.de
SUMMARY:Musical: musikalische Zeitreise durch Baierbrunn
DESCRIPTION:
URL:https://1250baierbrunn.de/event/musical-musikalische-zeitreise-durch-baierbrunn/
LOCATION:Grundschule\, Hermann-Roth-Straße 23\, Baierbrunn\, 82065\, Germany
CATEGORIES:Grundschule
END:VEVENT
BEGIN:VEVENT
DTSTART;VALUE=DATE:20260718
DTEND;VALUE=DATE:20260720
DTSTAMP:20260420T144729
CREATED:20251218T222359Z
LAST-MODIFIED:20260120T143011Z
UID:308-1784332800-1784505599@1250baierbrunn.de
SUMMARY:Waldfest des Waldgasthofs Buchenhain - TERMIN GEÄNDERT!
DESCRIPTION:TERMIN GEÄNDERT!
URL:https://1250baierbrunn.de/event/waldfest-des-waldgasthofs-buchenhain/
LOCATION:Waldgasthof Buchenhain\, Am Klettergarten 7\, Baierbrunn\, 82065\, Germany
CATEGORIES:Waldgasthof Buchenhain
END:VEVENT
BEGIN:VEVENT
DTSTART;VALUE=DATE:20260724
DTEND;VALUE=DATE:20260727
DTSTAMP:20260420T144730
CREATED:20251218T222517Z
LAST-MODIFIED:20260121T084615Z
UID:316-1784851200-1785110399@1250baierbrunn.de
SUMMARY:Mittelalter Markt\, Feuerwerk oder Drohnen-Show
DESCRIPTION:
URL:https://1250baierbrunn.de/event/mittelalter-markt-feuerwerk-oder-drohnen-show/
LOCATION:Wirthsfeld\, Wirthsfeld 7\, Baierbrunn\, 82065\, Germany
CATEGORIES:Gemeinde
END:VEVENT
END:VCALENDAR