BEGIN:VCALENDAR
VERSION:2.0
PRODID:-//1250baierbrunn.de - ECPv6.15.17//NONSGML v1.0//EN
CALSCALE:GREGORIAN
METHOD:PUBLISH
X-WR-CALNAME:1250baierbrunn.de
X-ORIGINAL-URL:https://1250baierbrunn.de
X-WR-CALDESC:Veranstaltungen für 1250baierbrunn.de
REFRESH-INTERVAL;VALUE=DURATION:PT1H
X-Robots-Tag:noindex
X-PUBLISHED-TTL:PT1H
BEGIN:VTIMEZONE
TZID:Europe/Berlin
BEGIN:DAYLIGHT
TZOFFSETFROM:+0100
TZOFFSETTO:+0200
TZNAME:CEST
DTSTART:20250330T010000
END:DAYLIGHT
BEGIN:STANDARD
TZOFFSETFROM:+0200
TZOFFSETTO:+0100
TZNAME:CET
DTSTART:20251026T010000
END:STANDARD
BEGIN:DAYLIGHT
TZOFFSETFROM:+0100
TZOFFSETTO:+0200
TZNAME:CEST
DTSTART:20260329T010000
END:DAYLIGHT
BEGIN:STANDARD
TZOFFSETFROM:+0200
TZOFFSETTO:+0100
TZNAME:CET
DTSTART:20261025T010000
END:STANDARD
BEGIN:DAYLIGHT
TZOFFSETFROM:+0100
TZOFFSETTO:+0200
TZNAME:CEST
DTSTART:20270328T010000
END:DAYLIGHT
BEGIN:STANDARD
TZOFFSETFROM:+0200
TZOFFSETTO:+0100
TZNAME:CET
DTSTART:20271031T010000
END:STANDARD
END:VTIMEZONE
BEGIN:VEVENT
DTSTART;TZID=Europe/Berlin:20260912T120000
DTEND;TZID=Europe/Berlin:20260912T150000
DTSTAMP:20260420T180849
CREATED:20251218T222545Z
LAST-MODIFIED:20251230T145020Z
UID:319-1789214400-1789225200@1250baierbrunn.de
SUMMARY:Hof- und Stallführungen\, Brotzeit\, Musik\, …
DESCRIPTION:
URL:https://1250baierbrunn.de/event/hof-und-stallfuehrungen-brotzeit-musik/
LOCATION:Seitzhof
CATEGORIES:Landwirtschaft (Fam. Seitz)
END:VEVENT
BEGIN:VEVENT
DTSTART;TZID=Europe/Berlin:20260913T100000
DTEND;TZID=Europe/Berlin:20260913T160000
DTSTAMP:20260420T180849
CREATED:20251218T222626Z
LAST-MODIFIED:20251230T144806Z
UID:322-1789293600-1789315200@1250baierbrunn.de
SUMMARY:Tag des offenen Denkmals & Kirchenführung und Ortsgeschichte
DESCRIPTION:
URL:https://1250baierbrunn.de/event/tag-des-offenen-denkmals-kirchenfuehrung-und-ortsgeschichte/
LOCATION:Dorfkirche\, Wolfratshauser Str. 52\, Baierbrunn\, 82065\, Germany
CATEGORIES:Führungen,Heimatverein
END:VEVENT
BEGIN:VEVENT
DTSTART;TZID=Europe/Berlin:20260920T140000
DTEND;TZID=Europe/Berlin:20260920T160000
DTSTAMP:20260420T180849
CREATED:20251218T222648Z
LAST-MODIFIED:20251230T144818Z
UID:325-1789912800-1789920000@1250baierbrunn.de
SUMMARY:Kirchen- und Orgelführung
DESCRIPTION:
URL:https://1250baierbrunn.de/event/kirchen-und-orgelfuehrung/
LOCATION:Kloster Schäftlarn\, Kloster Schäftlarn\, Schäftlarn\, 82067\, Germany
CATEGORIES:Führungen,Heimatverein
END:VEVENT
BEGIN:VEVENT
DTSTART;VALUE=DATE:20260921
DTEND;VALUE=DATE:20261012
DTSTAMP:20260420T180849
CREATED:20251218T222718Z
LAST-MODIFIED:20251230T144338Z
UID:328-1789948800-1791763199@1250baierbrunn.de
SUMMARY:Ausstellung: Baierbrunn: Gestern\, Heute\, Morgen – Fotos\, Postkarten\, Straßen\, Pläne
DESCRIPTION:
URL:https://1250baierbrunn.de/event/ausstellung-baierbrunn-gestern-heute-morgen-fotos-postkarten-strassen-plaene/
LOCATION:Rathaus
CATEGORIES:Ausstellungen
END:VEVENT
END:VCALENDAR